Workbook
Name XDO_?XDOFIELD1?: PTR!$A$4:$A$9
Name XDO_?XDOFIELD10?: PTR!$J$4:$J$9
Name XDO_?XDOFIELD11?: PTR!$K$4:$K$9
Name XDO_?XDOFIELD12?: PTR!$L$4:$L$9
Name XDO_?XDOFIELD13?: PTR!$M$4:$M$9
Name XDO_?XDOFIELD14?: PTR!$N$4:$N$9
Name XDO_?XDOFIELD15?: PTR!$O$4:$O$9
Name XDO_?XDOFIELD16?: PTR!$P$4:$P$9
Name XDO_?XDOFIELD17?: PTR!$Q$4:$Q$9
Name XDO_?XDOFIELD18?: PTR!$R$4:$R$9
Name XDO_?XDOFIELD19?: PTR!$S$4:$S$9
Name XDO_?XDOFIELD2?: PTR!$B$4:$B$9
Name XDO_?XDOFIELD20?: PTR!$T$4:$T$9
Name XDO_?XDOFIELD21?: PTR!$U$4:$U$9
Name XDO_?XDOFIELD22?: PTR!$V$4:$V$9
Name XDO_?XDOFIELD23?: PTR!$W$4:$W$9
Name XDO_?XDOFIELD24?: PTR!$X$4:$X$9
Name XDO_?XDOFIELD25?: PTR!$Y$4:$Y$9
Name XDO_?XDOFIELD26?: PTR!$Z$4:$Z$9
Name XDO_?XDOFIELD27?: PTR!$AA$4:$AA$9
Name XDO_?XDOFIELD28?: PTR!$AB$4:$AB$9
Name XDO_?XDOFIELD29?: PTR!$AC$4:$AC$9
Name XDO_?XDOFIELD3?: PTR!$C$4:$C$9
Name XDO_?XDOFIELD30?: PTR!$AD$4:$AD$9
Name XDO_?XDOFIELD30?: #REF!
Name XDO_?XDOFIELD31?: PTR!$AE$4:$AE$9
Name XDO_?XDOFIELD32?: PTR!$AF$4:$AF$9
Name XDO_?XDOFIELD33?: PTR!$AG$4:$AG$9
Name XDO_?XDOFIELD34?: PTR!$AH$4:$AH$9
Name XDO_?XDOFIELD35?: PTR!$AI$4:$AI$9
Name XDO_?XDOFIELD36?: PTR!$AJ$4:$AJ$9
Name XDO_?XDOFIELD37?: PTR!$AK$4:$AK$9
Name XDO_?XDOFIELD38?: PTR!$AL$4:$AL$9
Name XDO_?XDOFIELD39?: PTR!$AM$4:$AM$9
Name XDO_?XDOFIELD4?: PTR!$D$4:$D$9
Name XDO_?XDOFIELD40?: PTR!$AN$4:$AN$9
Name XDO_?XDOFIELD41?: PTR!$AO$4:$AO$9
Name XDO_?XDOFIELD42?: PTR!$AP$4:$AP$9
Name XDO_?XDOFIELD43?: PTR!$AQ$4:$AQ$9
Name XDO_?XDOFIELD44?: PTR!$AR$4:$AR$9
Name XDO_?XDOFIELD45?: PTR!$AS$4:$AS$9
Name XDO_?XDOFIELD46?: PTR!$AT$4:$AT$9
Name XDO_?XDOFIELD47?: PTR!$AU$4:$AU$9
Name XDO_?XDOFIELD48?: PTR!$AV$4:$AV$9
Name XDO_?XDOFIELD49?: PTR!$AW$4:$AW$9
Name XDO_?XDOFIELD5?: PTR!$E$4:$E$9
Name XDO_?XDOFIELD50?: PTR!$AX$4:$AX$9
Name XDO_?XDOFIELD51?: PTR!$AY$4:$AY$9
Name XDO_?XDOFIELD52?: PTR!$AZ$4:$AZ$9
Name XDO_?XDOFIELD53?: PTR!$BA$4:$BA$9
Name XDO_?XDOFIELD54?: PTR!$BB$4:$BB$9
Name XDO_?XDOFIELD55?: PTR!$BC$4:$BC$9
Name XDO_?XDOFIELD55?: '[1]UN AA Report_01.01.23-01.03.23'!#REF!
Name XDO_?XDOFIELD56?: PTR!$BD$4:$BD$9
Name XDO_?XDOFIELD57?: PTR!$BE$4:$BE$9
Name XDO_?XDOFIELD58?: PTR!$BF$4:$BF$9
Name XDO_?XDOFIELD58?: '[1]UN AA Report_01.01.23-01.03.23'!#REF!
Name XDO_?XDOFIELD59?: PTR!$BG$4:$BG$9
Name XDO_?XDOFIELD6?: PTR!$F$4:$F$9
Name XDO_?XDOFIELD60?: PTR!$BH$4:$BH$9

Sheet Interim finreport
C3: INTERIM FINANCIAL REPORT
C4: Award ID: | D4: 1176166
C5: Project Title: | D5: Support to the stabilization and recovery of war affected communities (frontline, return and hosting areas)
C6: Project ID: | D6: 01001136
C7: Donor: | D7: GOVERNMENT OF NETHERLANDS (000182)
C9: EXPECTED OUTPUTS | D9: Approved budget, USD | E9: Expenses , period 08.2023-31.12.2024, USD | F9: Commitments as of 31.12.2024, USD | G9: Total Budget Balance, USD | H9: Total Budget Utilization, %
A10: Mapping | D10: A | E10: B | F10: C | G10: D=A-B-C | H10: E=(B+C)/A, %
A11: Output 1 | C11: Output 1: Local communities and local justice service providers more effectively implement response and recovery processes. | D11: ='Detailed budget'!Q25 -> 315000 | E11: =SUMIFS(AAA!F:F,AAA!A:A,"yes",AAA!C:C,A11,AAA!AZ:AZ,"<>2025")+SUMIFS(AAA!F:F,AAA!A:A,"yes",AAA!D:D,A11,AAA!AZ:AZ,"<>2025")+SUMIFS(AAA!F:F,AAA!A:A,"yes",AAA!E:E,A11,AAA!AZ:AZ,"<>2025") -> 203862.92 | F11: =SUMIFS('IPSAS Commitment report'!Z:Z,'IPSAS Commitment report'!A:A,'Interim finreport'!A11) -> 49984.67 | G11: =D11-SUM(E11:F11) -> 61152.41 | H11: =SUM(E11:F11)/D11 -> 0.80586537
A12: Output 2 | C12: Output 2: Social fabric is strengthened, and social divisions are bridged through greater institutional and citizen dialogue, and through enabling reintegration of veterans in their communities. | D12: ='Detailed budget'!Q51 -> 454000 | E12: =SUMIFS(AAA!F:F,AAA!A:A,"yes",AAA!C:C,A12,AAA!AZ:AZ,"<>2025")+SUMIFS(AAA!F:F,AAA!A:A,"yes",AAA!D:D,A12,AAA!AZ:AZ,"<>2025")+SUMIFS(AAA!F:F,AAA!A:A,"yes",AAA!E:E,A12,AAA!AZ:AZ,"<>2025") -> 297880.15 | F12: =SUMIFS('IPSAS Commitment report'!Z:Z,'IPSAS Commitment report'!A:A,'Interim finreport'!A12) -> 61773.54 | G12: =D12-SUM(E12:F12) -> 94346.31 | H12: =SUM(E12:F12)/D12 -> 0.79218874
A13: Output 3 | C13: Output 3: Citizens, especially young women and men, take an active role in inclusive, area-based planning and implementation of security and recovery initiatives. | D13: ='Detailed budget'!Q69 -> 343632 | E13: =SUMIFS(AAA!F:F,AAA!A:A,"yes",AAA!C:C,A13,AAA!AZ:AZ,"<>2025")+SUMIFS(AAA!F:F,AAA!A:A,"yes",AAA!D:D,A13,AAA!AZ:AZ,"<>2025")+SUMIFS(AAA!F:F,AAA!A:A,"yes",AAA!E:E,A13,AAA!AZ:AZ,"<>2025") -> 283435.98 | F13: =SUMIFS('IPSAS Commitment report'!Z:Z,'IPSAS Commitment report'!A:A,'Interim finreport'!A13) -> 1086.06 | G13: =D13-SUM(E13:F13) -> 59109.96 | H13: =SUM(E13:F13)/D13 -> 0.8279847
A14: MC | C14: Management costs directly related to implementation including security costs | D14: ='Detailed budget'!Q71 -> 279207.57 | E14: =SUMIFS(AAA!F:F,AAA!A:A,"yes",AAA!C:C,A14,AAA!AZ:AZ,"<>2025")+SUMIFS(AAA!F:F,AAA!A:A,"yes",AAA!D:D,A14,AAA!AZ:AZ,"<>2025")+SUMIFS(AAA!F:F,AAA!A:A,"yes",AAA!E:E,A14,AAA!AZ:AZ,"<>2025") -> 220284.9 | F14: =SUMIFS('IPSAS Commitment report'!Z:Z,'IPSAS Commitment report'!A:A,'Interim finreport'!A14) -> 0 | G14: =D14-SUM(E14:F14) -> 58922.672 | H14: =SUM(E14:F14)/D14 -> 0.78896463
A15: DPC | C15: Support services (4%) | D15: ='Detailed budget'!Q86 -> 55673.603 | E15: =SUMIFS(AAA!F:F,AAA!A:A,"yes",AAA!B:B,A15,AAA!AZ:AZ,"<>2025") -> 53101.8 | F15: =SUMIFS('IPSAS Commitment report'!Z:Z,'IPSAS Commitment report'!A:A,'Interim finreport'!A15) -> 0 | G15: =D15-SUM(E15:F15) -> 2571.8029 | H15: =SUM(E15:F15)/D15 -> 0.9538057
A16: GMS | C16: Facilities & Administration (8%) | D16: ='Detailed budget'!Q88 -> 115801.05 | E16: =SUMIFS(AAA!F:F,AAA!A:A,"yes",AAA!B:B,A16,AAA!AZ:AZ,"<>2025") -> 84407.66 | F16: =SUMIFS('IPSAS Commitment report'!Z:Z,'IPSAS Commitment report'!A:A,'Interim finreport'!A16) -> 0 | G16: =D16-SUM(E16:F16) -> 31393.392 | H16: =SUM(E16:F16)/D16 -> 0.72890236
C17: TOTAL | D17: =SUM(D11:D16) -> 1563314.2 | E17: =SUM(E11:E16) -> 1142973.4 | F17: =SUM(F11:F16) -> 112844.27 | G17: =SUM(G11:G16) -> 307496.55 | H17: =SUM(E17:F17)/D17 -> 0.80330471
C18: NOTE: Data contained in this report is an extract of UNDP financial records and subject to change. The accounting period is an open period and data from some accounting processes may not have been processed. Financial data above is provisional.
E20: USD
D22: 2023, tranche #1 | E22: 1010682.7
D23: 2024, tranche #2 | E23: =552611.58+20 -> 552631.58 | F23: Utilization of tranches
D24: Total | E24: =SUM(E21:E23) -> 1563314.2 | F24: =SUM(E17:F17)/E24 -> 0.80330471

Sheet IPSAS Comm
A1: COMMENTS | B1: Mapping Activities to outputs | C1: Cutoff Date | D1: Region/Bureau | E1: Office | F1: OPERATING_UNIT | G1: COST_CENTRE | H1: PURCHASE_ORDER_NUMBER | I1: BUSINESS_UNIT | J1: PROJECT | K1: PROJECT_NUMBER | L1: TASK_NUMBER | M1: DONOR | N1: RESPONSIBLE_PARTY | O1: ACCOUNT | P1: EXPENDITURE_TYPE | Q1: EXPENDITURE_ORGANIZATION | R1: CONTRACT_NUMBER | S1: FUND | T1: FUNDING_SOURCE | U1: PO_CURRENCY | V1: ORDERED_AMOUNT | W1: ORDERED_AMOUNT_FUNC_CURRENCY | X1: OPEN_ORDERED_AMOUNT | Y1: OPEN_ORDERED_AMOUNT_FUNC_CURRENCY | Z1: EXCHANGE_RATE | AA1: REVALUED_OPEN_ORDERED_AMOUNT | AB1: REPORT_DATE | AC1: REPORT_RUN_BY | AD1: PO_HEADER_STATUS | AE1: SUPPLIER_NAME
A2: Will be transferred to 2025 | B2: =VLOOKUP(L2,'Mapping Activities to outputs'!B:C,2,FALSE) -> Output 3 | C2: 45657 | D2: RBEC | E2: Ukraine | F2: UKR | G2: 58203 | H2: 10264305 | I2: UNDP-UKR | J2: 01001136 | K2: 01001136 | L2: ACT 3.2.2. | M2: 000182 | N2: 001981-UNDP | O2: 74120 | P2: 74120 - Capacity Assessment | Q2: 58203 - Ukraine - Crisis Prev & Rcvry | R2: 1176166 | S2: 30000 | T2: GOVERNMENT OF NETHERLANDS | U2: USD | V2: 855 | W2: 855 | X2: 855 | Y2: 855 | Z2: 1 | AA2: 855 | AB2: 01-01-2025 02.01.34 | AC2: varun.panchal@undp.org | AD2: OPEN | AE2: BDO LLP
A3: Finally Closed | B3: =VLOOKUP(L3,'Mapping Activities to outputs'!B:C,2,FALSE) -> Output 2 | C3: 45657 | D3: RBEC | E3: Ukraine | F3: UKR | G3: 58203 | H3: 10266892 | I3: UNDP-UKR | J3: 01001136 | K3: 01001136 | L3: Act 2.1.2. | M3: 000182 | N3: 001981-UNDP | O3: 75709 | P3: 75709 - Learning Costs - Training of Counter | Q3: 58203 - Ukraine - Crisis Prev & Rcvry | R3: 1176166 | S3: 30000 | T3: GOVERNMENT OF NETHERLANDS | U3: UAH | V3: 267571.6 | W3: 6447.51 | X3: 3838.79 | Y3: 92.5 | Z3: 0.02380952 | AA3: 91.4 | AB3: 01-01-2025 02.01.34 | AC3: varun.panchal@undp.org | AD3: OPEN | AE3: KYI AVIA, PJSC
A4: Finally Closed | B4: =VLOOKUP(L4,'Mapping Activities to outputs'!B:C,2,FALSE) -> Output 2 | C4: 45657 | D4: RBEC | E4: Ukraine | F4: UKR | G4: 58204 | H4: 10273594 | I4: UNDP-UKR | J4: 01001136 | K4: 01001136 | L4: Act 2.1.2. | M4: 000182 | N4: 001981-UNDP | O4: 75709 | P4: 75709 - Learning Costs - Training of Counter | Q4: 58204 - Ukraine - Dem. Governance | R4: 1176166 | S4: 30000 | T4: GOVERNMENT OF NETHERLANDS | U4: UAH | V4: 404786.4 | W4: 9753.89 | X4: 38962.32 | Y4: 938.85 | Z4: 0.02380952 | AA4: 927.67 | AB4: 01-01-2025 02.01.34 | AC4: varun.panchal@undp.org | AD4: OPEN | AE4: KYI AVIA, PJSC
A5: 2025 | B5: =VLOOKUP(L5,'Mapping Activities to outputs'!B:C,2,FALSE) -> Output 1 | C5: 45657 | D5: RBEC | E5: Ukraine | F5: UKR | G5: 58203 | H5: 10274675 | I5: UNDP-UKR | J5: 01001136 | K5: 01001136 | L5: ACT 1.1.1. | M5: 000182 | N5: 001981-UNDP | O5: 72165 | P5: 72165 - Service Cost - Social Services and Social Sciences | Q5: 58203 - Ukraine - Crisis Prev & Rcvry | R5: 1176166 | S5: 30000 | T5: GOVERNMENT OF NETHERLANDS | U5: UAH | V5: 70422.55 | W5: 1696.93 | X5: 70422.55 | Y5: 1696.93 | Z5: 0.02380952 | AA5: 1676.73 | AB5: 01-01-2025 02.01.34 | AC5: varun.panchal@undp.org | AD5: OPEN | AE5: Research Bureau Sociologist, NGO
A6: Finally Closed | B6: =VLOOKUP(L6,'Mapping Activities to outputs'!B:C,2,FALSE) -> MC | C6: 45657 | D6: RBEC | E6: Ukraine | F6: UKR | G6: 58203 | H6: 10284947 | I6: UNDP-UKR | J6: 01001136 | K6: 01001136 | L6: ACT 4 | M6: 000182 | N6: 001981-UNDP | O6: 74210 | P6: 74210 - Printing and Publications | Q6: 58203 - Ukraine - Crisis Prev & Rcvry | R6: 1176166 | S6: 30000 | T6: GOVERNMENT OF NETHERLANDS | U6: UAH | V6: 31802.83 | W6: 766.33 | X6: 10119.1 | Y6: 243.83 | Z6: 0.02380952 | AA6: 240.93 | AB6: 01-01-2025 02.01.34 | AC6: varun.panchal@undp.org | AD6: OPEN | AE6: MEGAPRYNT SERVIS, TOV
A7: 2025 | B7: =VLOOKUP(L7,'Mapping Activities to outputs'!B:C,2,FALSE) -> Output 2 | C7: 45657 | D7: RBEC | E7: Ukraine | F7: UKR | G7: 58203 | H7: 10291795 | I7: UNDP-UKR | J7: 01001136 | K7: 01001136 | L7: ACT 2.3.1. | M7: 000182 | N7: 001981-UNDP | O7: 71305 | P7: 71305 - Local Consultants Expenses - Short-Term Technical Contractors | Q7: 58203 - Ukraine - Crisis Prev & Rcvry | R7: 1176166 | S7: 30000 | T7: GOVERNMENT OF NETHERLANDS | U7: UAH | V7: 99600 | W7: 2400 | X7: 99600 | Y7: 2400 | Z7: 0.02380952 | AA7: 2371.43 | AB7: 01-01-2025 02.01.34 | AC7: varun.panchal@undp.org | AD7: OPEN | AE7: Saienko Maryna Ivanivna, FOP
A8: Finally Closed | B8: =VLOOKUP(L8,'Mapping Activities to outputs'!B:C,2,FALSE) -> Output 3 | C8: 45657 | D8: RBEC | E8: Ukraine | F8: UKR | G8: 58203 | H8: 10293557 | I8: UNDP-UKR | J8: 01001136 | K8: 01001136 | L8: ACT 3.1.1. | M8: 000182 | N8: 001981-UNDP | O8: 75709 | P8: 75709 - Learning Costs - Training of Counter | Q8: 58203 - Ukraine - Crisis Prev & Rcvry | R8: 1176166 | S8: 30000 | T8: GOVERNMENT OF NETHERLANDS | U8: UAH | V8: 300094.68 | W8: 7231.2 | X8: 565 | Y8: 13.61 | Z8: 0.02380952 | AA8: 13.45 | AB8: 01-01-2025 02.01.34 | AC8: varun.panchal@undp.org | AD8: OPEN | AE8: KYI AVIA, PJSC
A9: 2024 | B9: =VLOOKUP(L9,'Mapping Activities to outputs'!B:C,2,FALSE) -> Output 1 | C9: 45657 | D9: RBEC | E9: Ukraine | F9: UKR | G9: 58203 | H9: 10301459 | I9: UNDP-UKR | J9: 01001136 | K9: 01001136 | L9: Act 1.2.3. | M9: 000182 | N9: 001981-UNDP | O9: 72410 | P9: 72410 - Information and Communications Technology (ICT) Equipment | Q9: 58203 - Ukraine - Crisis Prev & Rcvry | R9: 1176166 | S9: 30000 | T9: GOVERNMENT OF NETHERLANDS | U9: UAH | V9: 1998640.1 | W9: 48160.01 | X9: 1998640.1 | Y9: 48160.01 | Z9: 0.02380952 | AA9: 47586.66 | AB9: 01-01-2025 02.01.34 | AC9: varun.panchal@undp.org | AD9: OPEN | AE9: LLC IT-INTEGRATOR
A10: 2025 | B10: =VLOOKUP(L10,'Mapping Activities to outputs'!B:C,2,FALSE) -> Output 1 | C10: 45657 | D10: RBEC | E10: Ukraine | F10: UKR | G10: 58203 | H10: 10301460 | I10: UNDP-UKR | J10: 01001136 | K10: 01001136 | L10: ACT 1.2.2. | M10: 000182 | N10: 001981-UNDP | O10: 72410 | P10: 72410 - Information and Communications Technology (ICT) Equipment | Q10: 58203 - Ukraine - Crisis Prev & Rcvry | R10: 1176166 | S10: 30000 | T10: GOVERNMENT OF NETHERLANDS | U10: UAH | V10: 622499.9 | W10: 15000 | X10: 622499.9 | Y10: 15000 | Z10: 0.02380952 | AA10: 14821.42 | AB10: 01-01-2025 02.01.34 | AC10: varun.panchal@undp.org | AD10: OPEN | AE10: Integrations Systems, LLC
A11: 2025 | B11: =VLOOKUP(L11,'Mapping Activities to outputs'!B:C,2,FALSE) -> Output 1 | C11: 45657 | D11: RBEC | E11: Ukraine | F11: UKR | G11: 58203 | H11: 10301460 | I11: UNDP-UKR | J11: 01001136 | K11: 01001136 | L11: Act 1.2.3. | M11: 000182 | N11: 001981-UNDP | O11: 72410 | P11: 72410 - Information and Communications Technology (ICT) Equipment | Q11: 58203 - Ukraine - Crisis Prev & Rcvry | R11: 1176166 | S11: 30000 | T11: GOVERNMENT OF NETHERLANDS | U11: UAH | V11: 1613371.2 | W11: 38876.42 | X11: 1613371.2 | Y11: 38876.42 | Z11: 0.02380952 | AA11: 38413.59 | AB11: 01-01-2025 02.01.34 | AC11: varun.panchal@undp.org | AD11: OPEN | AE11: Integrations Systems, LLC
A12: Finally Closed | B12: =VLOOKUP(L12,'Mapping Activities to outputs'!B:C,2,FALSE) -> Output 3 | C12: 45657 | D12: RBEC | E12: Ukraine | F12: UKR | G12: 58203 | H12: 10301754 | I12: UNDP-UKR | J12: 01001136 | K12: 01001136 | L12: ACT 3.2.1. | M12: 000182 | N12: 001981-UNDP | O12: 75709 | P12: 75709 - Learning Costs - Training of Counter | Q12: 58203 - Ukraine - Crisis Prev & Rcvry | R12: 1176166 | S12: 30000 | T12: GOVERNMENT OF NETHERLANDS | U12: UAH | V12: 214461.2 | W12: 5167.74 | X12: 2790.71 | Y12: 67.25 | Z12: 0.02380952 | AA12: 66.45 | AB12: 01-01-2025 02.01.34 | AC12: varun.panchal@undp.org | AD12: OPEN | AE12: KYI AVIA, PJSC
A13: Will be transferred to 2025 | B13: =VLOOKUP(L13,'Mapping Activities to outputs'!B:C,2,FALSE) -> Output 2 | C13: 45657 | D13: RBEC | E13: Ukraine | F13: UKR | G13: 58203 | H13: 10309117 | I13: UNDP-UKR | J13: 01001136 | K13: 01001136 | L13: ACT 2.3.2. | M13: 000182 | N13: 001981-UNDP | O13: 72220 | P13: 72220 - Furniture | Q13: 58203 - Ukraine - Crisis Prev & Rcvry | R13: 1176166 | S13: 30000 | T13: GOVERNMENT OF NETHERLANDS | U13: UAH | V13: 407730 | W13: 9824.82 | X13: 407730 | Y13: 9824.82 | Z13: 0.02380952 | AA13: 9707.86 | AB13: 01-01-2025 02.01.34 | AC13: varun.panchal@undp.org | AD13: OPEN | AE13: Telytsyna Svitlana Mykolaiivna, FOP
A14: Will be transferred to 2025 | B14: =VLOOKUP(L14,'Mapping Activities to outputs'!B:C,2,FALSE) -> Output 2 | C14: 45657 | D14: RBEC | E14: Ukraine | F14: UKR | G14: 58203 | H14: 10312039 | I14: UNDP-UKR | J14: 01001136 | K14: 01001136 | L14: ACT 2.3.2. | M14: 000182 | N14: 001981-UNDP | O14: 72410 | P14: 72410 - Information and Communications Technology (ICT) Equipment | Q14: 58203 - Ukraine - Crisis Prev & Rcvry | R14: 1176166 | S14: 30000 | T14: GOVERNMENT OF NETHERLANDS | U14: UAH | V14: 407650 | W14: 9822.89 | X14: 407650 | Y14: 9822.89 | Z14: 0.02380952 | AA14: 9705.95 | AB14: 01-01-2025 02.01.34 | AC14: varun.panchal@undp.org | AD14: OPEN | AE14: TELYTSYN SERHII OLEKSANDROVYCH FOP
A15: 2025 | B15: =VLOOKUP(L15,'Mapping Activities to outputs'!B:C,2,FALSE) -> Output 1 | C15: 45657 | D15: RBEC | E15: Ukraine | F15: UKR | G15: 58203 | H15: 10320738 | I15: UNDP-UKR | J15: 01001136 | K15: 01001136 | L15: ACT 1.2.2. | M15: 000182 | N15: 001981-UNDP | O15: 75709 | P15: 75709 - Learning Costs - Training of Counter | Q15: 58203 - Ukraine - Crisis Prev & Rcvry | R15: 1176166 | S15: 30000 | T15: GOVERNMENT OF NETHERLANDS | U15: UAH | V15: 421547.84 | W15: 10157.78 | X15: 421547.84 | Y15: 10157.78 | Z15: 0.02380952 | AA15: 10036.85 | AB15: 01-01-2025 02.01.34 | AC15: varun.panchal@undp.org | AD15: OPEN | AE15: ARENA CS CONFERENCES AND SEMINARS, LLC
A16: 2025 | B16: =VLOOKUP(L16,'Mapping Activities to outputs'!B:C,2,FALSE) -> Output 2 | C16: 45657 | D16: RBEC | E16: Ukraine | F16: UKR | G16: 58203 | H16: 10327869 | I16: UNDP-UKR | J16: 01001136 | K16: 01001136 | L16: ACT 2.2.1. | M16: 000182 | N16: 001981-UNDP | O16: 75709 | P16: 75709 - Learning Costs - Training of Counter | Q16: 58203 - Ukraine - Crisis Prev & Rcvry | R16: 1176166 | S16: 30000 | T16: GOVERNMENT OF NETHERLANDS | U16: UAH | V16: 638172 | W16: 15377.64 | X16: 638172 | Y16: 15377.64 | Z16: 0.02380952 | AA16: 15194.57 | AB16: 01-01-2025 02.01.34 | AC16: varun.panchal@undp.org | AD16: OPEN | AE16: KYI AVIA, PJSC
A17: Will be transferred to 2025 | B17: =VLOOKUP(L17,'Mapping Activities to outputs'!B:C,2,FALSE) -> Output 2 | C17: 45657 | D17: RBEC | E17: Ukraine | F17: UKR | G17: 58203 | H17: 10331457 | I17: UNDP-UKR | J17: 01001136 | K17: 01001136 | L17: ACT 2.2.1. | M17: 000182 | N17: 001981-UNDP | O17: 72410 | P17: 72410 - Information and Communications Technology (ICT) Equipment | Q17: 58203 - Ukraine - Crisis Prev & Rcvry | R17: 1176166 | S17: 30000 | T17: GOVERNMENT OF NETHERLANDS | U17: UAH | V17: 166720.33 | W17: 4017.36 | X17: 166720.33 | Y17: 4017.36 | Z17: 0.02380952 | AA17: 3969.53 | AB17: 01-01-2025 02.01.34 | AC17: varun.panchal@undp.org | AD17: OPEN | AE17: Telytsyna Svitlana Mykolaiivna, FOP
A18: 2025 | B18: =VLOOKUP(L18,'Mapping Activities to outputs'!B:C,2,FALSE) -> Output 1 | C18: 45657 | D18: RBEC | E18: Ukraine | F18: UKR | G18: 58203 | H18: 10336790 | I18: UNDP-UKR | J18: 01001136 | K18: 01001136 | L18: ACT 1.1.1. | M18: 000182 | N18: 001981-UNDP | O18: 75709 | P18: 75709 - Learning Costs - Training of Counter | Q18: 58203 - Ukraine - Crisis Prev & Rcvry | R18: 1176166 | S18: 30000 | T18: GOVERNMENT OF NETHERLANDS | U18: UAH | V18: 208249.94 | W18: 5000 | X18: 208249.94 | Y18: 5000 | Z18: 0.02380952 | AA18: 4958.33 | AB18: 01-01-2025 02.01.34 | AC18: varun.panchal@undp.org | AD18: OPEN | AE18: KYI AVIA, PJSC
A19: 2025 | B19: =VLOOKUP(L19,'Mapping Activities to outputs'!B:C,2,FALSE) -> Output 1 | C19: 45657 | D19: RBEC | E19: Ukraine | F19: UKR | G19: 58203 | H19: 10336790 | I19: UNDP-UKR | J19: 01001136 | K19: 01001136 | L19: ACT 1.1.2. | M19: 000182 | N19: 001981-UNDP | O19: 75709 | P19: 75709 - Learning Costs - Training of Counter | Q19: 58203 - Ukraine - Crisis Prev & Rcvry | R19: 1176166 | S19: 30000 | T19: GOVERNMENT OF NETHERLANDS | U19: UAH | V19: 178708.86 | W19: 4290.73 | X19: 178708.86 | Y19: 4290.73 | Z19: 0.02380952 | AA19: 4254.97 | AB19: 01-01-2025 02.01.34 | AC19: varun.panchal@undp.org | AD19: OPEN | AE19: KYI AVIA, PJSC
A20: 2025 | B20: =VLOOKUP(L20,'Mapping Activities to outputs'!B:C,2,FALSE) -> Output 2 | C20: 45657 | D20: RBEC | E20: Ukraine | F20: UKR | G20: 58203 | H20: 10337819 | I20: UNDP-UKR | J20: 01001136 | K20: 01001136 | L20: Act 2.1.2. | M20: 000182 | N20: 001981-UNDP | O20: 75709 | P20: 75709 - Learning Costs - Training of Counter | Q20: 58203 - Ukraine - Crisis Prev & Rcvry | R20: 1176166 | S20: 30000 | T20: GOVERNMENT OF NETHERLANDS | U20: UAH | V20: 222411.07 | W20: 5340 | X20: 222411.07 | Y20: 5340 | Z20: 0.02380952 | AA20: 5295.5 | AB20: 01-01-2025 02.01.34 | AC20: varun.panchal@undp.org | AD20: OPEN | AE20: KYI AVIA, PJSC
A21: 2025 | B21: =VLOOKUP(L21,'Mapping Activities to outputs'!B:C,2,FALSE) -> Output 2 | C21: 45657 | D21: RBEC | E21: Ukraine | F21: UKR | G21: 58203 | H21: 10337819 | I21: UNDP-UKR | J21: 01001136 | K21: 01001136 | L21: ACT 2.2.1. | M21: 000182 | N21: 001981-UNDP | O21: 75709 | P21: 75709 - Learning Costs - Training of Counter | Q21: 58203 - Ukraine - Crisis Prev & Rcvry | R21: 1176166 | S21: 30000 | T21: GOVERNMENT OF NETHERLANDS | U21: UAH | V21: 7948.08 | W21: 190.83 | X21: 7948.08 | Y21: 190.83 | Z21: 0.02380952 | AA21: 189.24 | AB21: 01-01-2025 02.01.34 | AC21: varun.panchal@undp.org | AD21: OPEN | AE21: KYI AVIA, PJSC
A22: 2025 | B22: =VLOOKUP(L22,'Mapping Activities to outputs'!B:C,2,FALSE) -> Output 3 | C22: 45657 | D22: RBEC | E22: Ukraine | F22: UKR | G22: 58203 | H22: 10337819 | I22: UNDP-UKR | J22: 01001136 | K22: 01001136 | L22: ACT 3.2.1. | M22: 000182 | N22: 001981-UNDP | O22: 75709 | P22: 75709 - Learning Costs - Training of Counter | Q22: 58203 - Ukraine - Crisis Prev & Rcvry | R22: 1176166 | S22: 30000 | T22: GOVERNMENT OF NETHERLANDS | U22: UAH | V22: 9704.45 | W22: 233 | X22: 9704.45 | Y22: 233 | Z22: 0.02380952 | AA22: 231.06 | AB22: 01-01-2025 02.01.34 | AC22: varun.panchal@undp.org | AD22: OPEN | AE22: KYI AVIA, PJSC
A23: 2025 | B23: =VLOOKUP(L23,'Mapping Activities to outputs'!B:C,2,FALSE) -> Output 2 | C23: 45657 | D23: RBEC | E23: Ukraine | F23: UKR | G23: 58203 | H23: 10337857 | I23: UNDP-UKR | J23: 01001136 | K23: 01001136 | L23: ACT 2.2.1. | M23: 000182 | N23: 001981-UNDP | O23: 75709 | P23: 75709 - Learning Costs - Training of Counter | Q23: 58203 - Ukraine - Crisis Prev & Rcvry | R23: 1176166 | S23: 30000 | T23: GOVERNMENT OF NETHERLANDS | U23: UAH | V23: 161686.4 | W23: 3882.03 | X23: 161686.4 | Y23: 3882.03 | Z23: 0.02380952 | AA23: 3849.68 | AB23: 01-01-2025 02.01.34 | AC23: varun.panchal@undp.org | AD23: OPEN | AE23: KYI AVIA, PJSC
C24: Total | W24: 204492.11 | Y24: 176481.48 | AA24: 174458.27
C26: Applied filters: UN_BUREAU is RBEC PROJECT is 01001136 PO_CREATION_CUTOFF is 31/12/2024 Office is not or -

Sheet IPSAS Commitment report
B1: Cutoff Date | C1: Region/Bureau | D1: Office | E1: OPERATING_UNIT | F1: COST_CENTRE | G1: PURCHASE_ORDER_NUMBER | H1: BUSINESS_UNIT | I1: PROJECT | J1: PROJECT_NUMBER | K1: TASK_NUMBER | L1: DONOR | M1: RESPONSIBLE_PARTY | N1: ACCOUNT | O1: EXPENDITURE_TYPE | P1: EXPENDITURE_ORGANIZATION | Q1: CONTRACT_NUMBER | R1: FUND | S1: FUNDING_SOURCE | T1: PO_CURRENCY | U1: ORDERED_AMOUNT | V1: ORDERED_AMOUNT_FUNC_CURRENCY | W1: OPEN_ORDERED_AMOUNT | X1: OPEN_ORDERED_AMOUNT_FUNC_CURRENCY | Y1: EXCHANGE_RATE | Z1: REVALUED_OPEN_ORDERED_AMOUNT | AA1: REPORT_DATE | AB1: REPORT_RUN_BY | AC1: PO_HEADER_STATUS | AD1: SUPPLIER_NAME
A2: =VLOOKUP(K2,'Mapping Activities to outputs'!B:C,2,FALSE) -> Output 3 | B2: 45657 | C2: RBEC | D2: Ukraine | E2: UKR | F2: 58203 | G2: 10264305 | H2: UNDP-UKR | I2: 01001136 | J2: 01001136 | K2: ACT 3.2.2. | L2: 000182 | M2: 001981-UNDP | N2: 74120 | O2: 74120 - Capacity Assessment | P2: 58203 - Ukraine - Crisis Prev & Rcvry | Q2: 1176166 | R2: 30000 | S2: GOVERNMENT OF NETHERLANDS | T2: USD | U2: 855 | V2: 855 | W2: 855 | X2: 855 | Y2: 1 | Z2: 855 | AA2: 24-01-2025 12.39.24 | AB2: varun.panchal@undp.org | AC2: OPEN | AD2: BDO LLP
A3: =VLOOKUP(K3,'Mapping Activities to outputs'!B:C,2,FALSE) -> Output 1 | B3: 45657 | C3: RBEC | D3: Ukraine | E3: UKR | F3: 58203 | G3: 10274675 | H3: UNDP-UKR | I3: 01001136 | J3: 01001136 | K3: ACT 1.1.1. | L3: 000182 | M3: 001981-UNDP | N3: 72165 | O3: 72165 - Service Cost - Social Services and Social Sciences | P3: 58203 - Ukraine - Crisis Prev & Rcvry | Q3: 1176166 | R3: 30000 | S3: GOVERNMENT OF NETHERLANDS | T3: UAH | U3: 70422.55 | V3: 1696.93 | W3: 70422.55 | X3: 1696.93 | Y3: 0.02380952 | Z3: 1676.73 | AA3: 24-01-2025 12.39.24 | AB3: varun.panchal@undp.org | AC3: OPEN | AD3: Research Bureau Sociologist, NGO
A4: =VLOOKUP(K4,'Mapping Activities to outputs'!B:C,2,FALSE) -> Output 2 | B4: 45657 | C4: RBEC | D4: Ukraine | E4: UKR | F4: 58203 | G4: 10291795 | H4: UNDP-UKR | I4: 01001136 | J4: 01001136 | K4: ACT 2.3.1. | L4: 000182 | M4: 001981-UNDP | N4: 71305 | O4: 71305 - Local Consultants Expenses - Short-Term Technical Contractors | P4: 58203 - Ukraine - Crisis Prev & Rcvry | Q4: 1176166 | R4: 30000 | S4: GOVERNMENT OF NETHERLANDS | T4: UAH | U4: 99600 | V4: 2400 | W4: 99600 | X4: 2400 | Y4: 0.02380952 | Z4: 2371.43 | AA4: 24-01-2025 12.39.24 | AB4: varun.panchal@undp.org | AC4: OPEN | AD4: Saienko Maryna Ivanivna, FOP
A5: =VLOOKUP(K5,'Mapping Activities to outputs'!B:C,2,FALSE) -> Output 1 | B5: 45657 | C5: RBEC | D5: Ukraine | E5: UKR | F5: 58203 | G5: 10301460 | H5: UNDP-UKR | I5: 01001136 | J5: 01001136 | K5: ACT 1.2.2. | L5: 000182 | M5: 001981-UNDP | N5: 72410 | O5: 72410 - Information and Communications Technology (ICT) Equipment | P5: 58203 - Ukraine - Crisis Prev & Rcvry | Q5: 1176166 | R5: 30000 | S5: GOVERNMENT OF NETHERLANDS | T5: UAH | U5: 622499.9 | V5: 15000 | W5: 622499.9 | X5: 15000 | Y5: 0.02380952 | Z5: 14821.42 | AA5: 24-01-2025 12.39.24 | AB5: varun.panchal@undp.org | AC5: CLOSED FOR RECEIVING | AD5: Integrations Systems, LLC
A6: =VLOOKUP(K6,'Mapping Activities to outputs'!B:C,2,FALSE) -> Output 1 | B6: 45657 | C6: RBEC | D6: Ukraine | E6: UKR | F6: 58203 | G6: 10301460 | H6: UNDP-UKR | I6: 01001136 | J6: 01001136 | K6: ACT 1.2.3. | L6: 000182 | M6: 001981-UNDP | N6: 72410 | O6: 72410 - Information and Communications Technology (ICT) Equipment | P6: 58203 - Ukraine - Crisis Prev & Rcvry | Q6: 1176166 | R6: 30000 | S6: GOVERNMENT OF NETHERLANDS | T6: UAH | U6: 1613371.2 | V6: 38876.42 | W6: 2.73 | X6: 0.07 | Y6: 0.02380952 | Z6: 0.06 | AA6: 24-01-2025 12.39.24 | AB6: varun.panchal@undp.org | AC6: CLOSED FOR RECEIVING | AD6: Integrations Systems, LLC
A7: =VLOOKUP(K7,'Mapping Activities to outputs'!B:C,2,FALSE) -> Output 2 | B7: 45657 | C7: RBEC | D7: Ukraine | E7: UKR | F7: 58203 | G7: 10309117 | H7: UNDP-UKR | I7: 01001136 | J7: 01001136 | K7: ACT 2.3.2. | L7: 000182 | M7: 001981-UNDP | N7: 72220 | O7: 72220 - Furniture | P7: 58203 - Ukraine - Crisis Prev & Rcvry | Q7: 1176166 | R7: 30000 | S7: GOVERNMENT OF NETHERLANDS | T7: UAH | U7: 407730 | V7: 9824.82 | W7: 0 | X7: 0 | Y7: 0.02380952 | Z7: 0 | AA7: 24-01-2025 12.39.24 | AB7: varun.panchal@undp.org | AC7: CLOSED FOR RECEIVING | AD7: Telytsyna Svitlana Mykolaiivna, FOP
A8: =VLOOKUP(K8,'Mapping Activities to outputs'!B:C,2,FALSE) -> Output 2 | B8: 45657 | C8: RBEC | D8: Ukraine | E8: UKR | F8: 58203 | G8: 10312039 | H8: UNDP-UKR | I8: 01001136 | J8: 01001136 | K8: ACT 2.3.2. | L8: 000182 | M8: 001981-UNDP | N8: 72410 | O8: 72410 - Information and Communications Technology (ICT) Equipment | P8: 58203 - Ukraine - Crisis Prev & Rcvry | Q8: 1176166 | R8: 30000 | S8: GOVERNMENT OF NETHERLANDS | T8: UAH | U8: 407650 | V8: 9822.89 | W8: 407650 | X8: 9822.89 | Y8: 0.02380952 | Z8: 9705.95 | AA8: 24-01-2025 12.39.24 | AB8: varun.panchal@undp.org | AC8: OPEN | AD8: TELYTSYN SERHII OLEKSANDROVYCH FOP
A9: =VLOOKUP(K9,'Mapping Activities to outputs'!B:C,2,FALSE) -> Output 2 | B9: 45657 | C9: RBEC | D9: Ukraine | E9: UKR | F9: 58203 | G9: 10327869 | H9: UNDP-UKR | I9: 01001136 | J9: 01001136 | K9: ACT 2.2.1. | L9: 000182 | M9: 001981-UNDP | N9: 75709 | O9: 75709 - Learning Costs - Training of Counter | P9: 58203 - Ukraine - Crisis Prev & Rcvry | Q9: 1176166 | R9: 30000 | S9: GOVERNMENT OF NETHERLANDS | T9: UAH | U9: 638172 | V9: 15377.64 | W9: 638172 | X9: 15377.64 | Y9: 0.02380952 | Z9: 15194.57 | AA9: 24-01-2025 12.39.24 | AB9: varun.panchal@undp.org | AC9: OPEN | AD9: KYI AVIA, PJSC
A10: =VLOOKUP(K10,'Mapping Activities to outputs'!B:C,2,FALSE) -> Output 2 | B10: 45657 | C10: RBEC | D10: Ukraine | E10: UKR | F10: 58203 | G10: 10331457 | H10: UNDP-UKR | I10: 01001136 | J10: 01001136 | K10: ACT 2.2.1. | L10: 000182 | M10: 001981-UNDP | N10: 72410 | O10: 72410 - Information and Communications Technology (ICT) Equipment | P10: 58203 - Ukraine - Crisis Prev & Rcvry | Q10: 1176166 | R10: 30000 | S10: GOVERNMENT OF NETHERLANDS | T10: UAH | U10: 166720.33 | V10: 4017.36 | W10: 166720.33 | X10: 4017.36 | Y10: 0.02380952 | Z10: 3969.53 | AA10: 24-01-2025 12.39.24 | AB10: varun.panchal@undp.org | AC10: OPEN | AD10: Telytsyna Svitlana Mykolaiivna, FOP
A11: =VLOOKUP(K11,'Mapping Activities to outputs'!B:C,2,FALSE) -> Output 1 | B11: 45657 | C11: RBEC | D11: Ukraine | E11: UKR | F11: 58203 | G11: 10336790 | H11: UNDP-UKR | I11: 01001136 | J11: 01001136 | K11: ACT 1.1.1. | L11: 000182 | M11: 001981-UNDP | N11: 75709 | O11: 75709 - Learning Costs - Training of Counter | P11: 58203 - Ukraine - Crisis Prev & Rcvry | Q11: 1176166 | R11: 30000 | S11: GOVERNMENT OF NETHERLANDS | T11: UAH | U11: 208249.94 | V11: 5000 | W11: 208249.94 | X11: 5000 | Y11: 0.02380952 | Z11: 4958.33 | AA11: 24-01-2025 12.39.24 | AB11: varun.panchal@undp.org | AC11: OPEN | AD11: KYI AVIA, PJSC
A12: =VLOOKUP(K12,'Mapping Activities to outputs'!B:C,2,FALSE) -> Output 1 | B12: 45657 | C12: RBEC | D12: Ukraine | E12: UKR | F12: 58203 | G12: 10336790 | H12: UNDP-UKR | I12: 01001136 | J12: 01001136 | K12: ACT 1.1.2. | L12: 000182 | M12: 001981-UNDP | N12: 75709 | O12: 75709 - Learning Costs - Training of Counter | P12: 58203 - Ukraine - Crisis Prev & Rcvry | Q12: 1176166 | R12: 30000 | S12: GOVERNMENT OF NETHERLANDS | T12: UAH | U12: 178708.86 | V12: 4290.73 | W12: 178708.86 | X12: 4290.73 | Y12: 0.02380952 | Z12: 4254.97 | AA12: 24-01-2025 12.39.24 | AB12: varun.panchal@undp.org | AC12: OPEN | AD12: KYI AVIA, PJSC
A13: =VLOOKUP(K13,'Mapping Activities to outputs'!B:C,2,FALSE) -> Output 2 | B13: 45657 | C13: RBEC | D13: Ukraine | E13: UKR | F13: 58203 | G13: 10337819 | H13: UNDP-UKR | I13: 01001136 | J13: 01001136 | K13: Act 2.1.2. | L13: 000182 | M13: 001981-UNDP | N13: 75709 | O13: 75709 - Learning Costs - Training of Counter | P13: 58203 - Ukraine - Crisis Prev & Rcvry | Q13: 1176166 | R13: 30000 | S13: GOVERNMENT OF NETHERLANDS | T13: UAH | U13: 222411.07 | V13: 5340 | W13: 222411.07 | X13: 5340 | Y13: 0.02380952 | Z13: 5295.5 | AA13: 24-01-2025 12.39.24 | AB13: varun.panchal@undp.org | AC13: OPEN | AD13: KYI AVIA, PJSC
... A19: =VLOOKUP(K19,'Mapping Activities to outputs'!B:C,2,FALSE) -> Output 1 | B19: 45657 | C19: RBEC | D19: Ukraine | E19: UKR | F19: 58203 | G19: 10346026 | H19: UNDP-UKR | I19: 01001136 | J19: 01001136 | K19: ACT 1.1.2. | L19: 000182 | M19: 001981-UNDP | N19: 75709 | O19: 75709 - Learning Costs - Training of Counter | P19: 58203 - Ukraine - Crisis Prev & Rcvry | Q19: 1176166 | R19: 30000 | S19: GOVERNMENT OF NETHERLANDS | T19: UAH | U19: 1019472.7 | V19: 23987.59 | W19: 1019472.7 | X19: 23987.59 | Y19: 0.02380952 | Z19: 24273.16 | AA19: 24-01-2025 12.39.24 | AB19: varun.panchal@undp.org | AC19: OPEN | AD19: KYI AVIA, PJSC
B20: Total | V20: 161743.49 | X20: 113042.32 | Z20: 112844.27
B22: Applied filters: PROJECT is 01001136 PO_CREATION_CUTOFF is 31/12/2024 Office is not or -

Sheet AAA
A1: Applicable | B1: Cost Type | C1: Mapping by Task# | D1: Specific mapping | E1: Manual task assigment | F1: Net amount | G1: JOURNAL CATEGORY | H1: JE_CATEGORY_DESCRIPTION | I1: JOURNAL SOURCE | J1: JE_SOURCE_DESCRIPTION | K1: CONTRACT_NUMBER | L1: ACCOUNTING_EVENT | M1: PERIOD DISPLAY ORDER | N1: PERIOD_NAME | O1: AGENCY | P1: ACCOUNT | Q1: ACCOUNT_DESCRIPTION | R1: COST_CENTER | S1: COST_CENTER_DESCRIPTION | T1: OPERATING_UNIT | U1: OPERATING_UNIT_DESCRIPTION | V1: DONOR | W1: DONOR_DESCRIPTION | X1: FUND | Y1: FUND_DESCRIPTION | Z1: RESPONSIBLE PARTY TRANSACTION | AA1: RESPONSIBLE_PARTY_PPM | AB1: TASK_NUMBER | AC1: PROJECT | AD1: PROJECT_DESCRIPTION | AE1: TRANSACTION_NUMBER | AF1: TRANSACTION_ENTITY_CODE | AG1: INVOICEHEADERDESCRIPTION | AH1: INVOICE_ID | AI1: INVOICE_TYPE | AJ1: INVOICE_AMOUNT | AK1: INVOICE_LINE_AMOUNT | AL1: INVOICE_LINE_NUMBER | AM1: INVOICE_NUMBER | AN1: SUPPLIER_NUMBER | AO1: SUPPLIER_NAME | AP1: JE_LINE_NUM | AQ1: JOURNAL_DESCRIPTION | AR1: LINE_DESCRIPTION | AS1: BATCH_NAME | AT1: JOURNAL_NAME | AU1: JOURNAL_LINE_CREATED_BY_PERSON_NAME | AV1: LEDGER_NAME | AW1: PO HEADER CREATION DATE | AX1: PO_NUMBER | AY1: PO_LINE_NUM | AZ1: FISCAL YEAR | BA1: EFFECTIVE_DATE | BB1: POSTED_DATE | BC1: TRANSACTION_LINE_NUMBER | BD1: CURRENCY_CODE | BE1: NET_ENTERED_AMOUNT | BF1: ACCOUNTED_DR | BG1: ACCOUNTED_CR | BH1: Net Accounted Amt
A2: =IF(X2="30000",IF(P2>60000,"yes","no"),"no") -> yes | B2: =IF(A2="no","N/A",IF(ISNA(VLOOKUP(P2,'Cost Type'!$A$4:$B$8,2,0)),"Impl",VLOOKUP(Q2,'Cost Type'!$A$4:$B$8,2,0))) -> Impl | C2: =IF(B2="Impl",VLOOKUP(AB2,'Mapping Activities to outputs'!$B:$C,2,0),"N/A") -> #N/A | E2: MC | F2: =BH2 -> 20 | G2: Adjustment | H2: Adjustment of account balances or transactions. | I2: Receivables | J2: Oracle Fusion Receivables subledger. | L2: ADJUSTMENT | M2: SEP-2023 | N2: UNDP | P2: 74510 | Q2: Bank Charges | R2: 58203 | S2: Ukraine - Crisis Prev & Rcvry | T2: UKR | U2: Ukraine | V2: 000182 | W2: GOVERNMENT OF NETHERLANDS | X2: 30000 | Y2: Programme Cost Sharing | AC2: 01001136 | AD2: Support to the stabilization and recovery of war affected communities (frontline, return and hosting areas) | AE2: 14080 | AF2: ADJUSTMENTS | AP2: 2 | AQ2: Journal Import 20920513: | AR2: 000182 | CONTRACT INVOICES | 14080 | AS2: Receivables A 20920494000001 20920513 N | AT2: 01-09-2023 Adjustment | AU2: Quantum Service Account | AV2: UNDP PL USD | AW2: 1/1/1970 | AZ2: 2023 | BA2: 45170 | BB2: 45259 | BD2: USD | BE2: 20 | BF2: 20 | BH2: 20
A3: =IF(X3="30000",IF(P3>60000,"yes","no"),"no") -> yes | B3: =IF(A3="no","N/A",IF(ISNA(VLOOKUP(P3,'Cost Type'!$A$4:$B$8,2,0)),"Impl",VLOOKUP(Q3,'Cost Type'!$A$4:$B$8,2,0))) -> Impl | C3: =IF(B3="Impl",VLOOKUP(AB3,'Mapping Activities to outputs'!$B:$C,2,0),"N/A") -> Output 2 | F3: =BH3 -> 589.64 | G3: Purchase Invoices | H3: Oracle Fusion Payables invoices. | I3: Payables | J3: Oracle Fusion Payables subledger. | K3: 1176166 | L3: INVOICES | M3: SEP-2023 | N3: UNDP | P3: 74215 | Q3: Promotional Materials and Distribution | R3: 58203 | S3: Ukraine - Crisis Prev & Rcvry | T3: UKR | U3: Ukraine | V3: 000182 | W3: GOVERNMENT OF NETHERLANDS | X3: 30000 | Y3: Programme Cost Sharing | Z3: 001981-UNDP | AA3: 001981-UNDP | AB3: ACT 2.2.1. | AC3: 01001136 | AD3: Support to the stabilization and recovery of war affected communities (frontline, return and hosting areas) | AE3: 068 | AF3: AP_INVOICES | AG3: production of 50 sets of promo materials | AH3: 300001400925445 | AI3: STANDARD | AJ3: 65450 | AK3: 21816.68 | AL3: 1 | AM3: 068 | AN3: 1058609 | AO3: KLYMENKO YURII YAKOVYCH FOP | AP3: 11 | AQ3: Journal Import 21006120: | AR3: Supplier: KLYMENKO YURII YAKOVYCH FOP |Supplier #: 1058609 |Site: UKR |Transaction #: 068 |Transaction Line #: 1 |PO #: |PO Line #: 0 |Contract #: 1176166 |Project #: 01001136 |Task #: ACT 2.2.1. |Donor: GOVERNMENT OF NETHERLANDS | AS3: Payables A 21005927000001 21006120 4 Y | AT3: 18-09-2023 Purchase Invoices | AU3: Quantum Service Account | AV3: UNDP PL USD | AY3: 0 | AZ3: 2023 | BA3: 45187 | BB3: 45260 | BC3: 1 | BD3: UAH | BE3: 21816.68 | BF3: 589.64 | BH3: 589.64
A4: =IF(X4="30000",IF(P4>60000,"yes","no"),"no") -> yes | B4: =IF(A4="no","N/A",IF(ISNA(VLOOKUP(P4,'Cost Type'!$A$4:$B$8,2,0)),"Impl",VLOOKUP(P4,'Cost Type'!$A$4:$B$8,2,0))) -> GMS | C4: =IF(B4="Impl",VLOOKUP(AB4,'Mapping Activities to outputs'!$B:$C,2,0),"N/A") -> N/A | F4: =BH4 -> 47.17 | G4: BURDEN_COST | H4: Cost of summarized burden expenditure items. | I4: Project Accounting | J4: Accounting generated by Oracle Fusion Projects for cost, revenue and billing offset transactions. | K4: 1176166 | L4: BURDEN_COST | M4: SEP-2023 | N4: UNDP | P4: 75105 | Q4: Facilities and Administration - Implementation | R4: 58203 | S4: Ukraine - Crisis Prev & Rcvry | T4: UKR | U4: Ukraine | V4: 000182 | W4: GOVERNMENT OF NETHERLANDS | X4: 30000 | Y4: Programme Cost Sharing | Z4: 001981-UNDP | AA4: 001981-UNDP | AB4: ACT 2.2.1. | AC4: 01001136 | AD4: Support to the stabilization and recovery of war affected communities (frontline, return and hosting areas) | AE4: 28041475 | AF4: EXPENDITURES | AP4: 5 | AQ4: Journal Import 21057263: | AR4: Expenditure Business Unit : UNDP-UKR , Project Number : 01001136 , Task Number : ACT 2.2.1. , Transaction Number : 28041475 , Expenditure Category : 75100 - Facilities & Administration , Expenditure Type : 75105 - Facilities and Administrat | AS4: Projects A 21057085000002 21057263 2 Y | AT4: 18-09-2023 Burden Cost | AU4: Quantum Service Account | AV4: UNDP PL USD | AW4: 1/1/1970 | AZ4: 2023 | BA4: 45187 | BB4: 45261 | BD4: UAH | BE4: 1745.33 | BF4: 47.17 | BH4: 47.17
A5: =IF(X5="30000",IF(P5>60000,"yes","no"),"no") -> yes | B5: =IF(A5="no","N/A",IF(ISNA(VLOOKUP(P5,'Cost Type'!$A$4:$B$8,2,0)),"Impl",VLOOKUP(Q5,'Cost Type'!$A$4:$B$8,2,0))) -> Impl | C5: =IF(B5="Impl",VLOOKUP(AB5,'Mapping Activities to outputs'!$B:$C,2,0),"N/A") -> Output 2 | F5: =BH5 -> 15728.79 | G5: Purchase Invoices | H5: Oracle Fusion Payables invoices. | I5: Payables | J5: Oracle Fusion Payables subledger. | K5: 1176166 | L5: INVOICES | M5: DEC-2023 | N5: UNDP | P5: 72145 | Q5: Service Cost - Training and Education Services | R5: 58203 | S5: Ukraine - Crisis Prev & Rcvry | T5: UKR | U5: Ukraine | V5: 000182 | W5: GOVERNMENT OF NETHERLANDS | X5: 30000 | Y5: Programme Cost Sharing | Z5: 001981-UNDP | AA5: 001981-UNDP | AB5: ACT 2.3.2. | AC5: 01001136 | AD5: Support to the stabilization and recovery of war affected communities (frontline, return and hosting areas) | AE5: 000176043 | AF5: AP_INVOICES | AG5: arrangement and conducting event | AH5: 300001427263324 | AI5: STANDARD | AJ5: 1230190.8 | AK5: 1230190.8 | AL5: 1 | AM5: 000176043 | AN5: 1058619 | AO5: KYI AVIA, PJSC | AP5: 266 | AQ5: Journal Import 21523711: | AR5: Supplier: KYI AVIA Private Joint Stock Company |Supplier #: 1058619 |Site: UKR |Transaction #: 000176043 |Transaction Line #: 1 |PO #: 10130559 |PO Line #: 2 |Contract #: 1176166 |Project #: 01001136 |Task #: ACT 2.3.2. |Donor: GO | AS5: Payables A 21523441000001 21523711 Y | AT5: 08-12-2023 Purchase Invoices | AU5: Quantum Service Account | AV5: UNDP PL USD | AW5: 10/27/2023 | AX5: 10130559 | AY5: 2 | AZ5: 2023 | BA5: 45268 | BB5: 45271 | BC5: 1 | BD5: UAH | BE5: 581965.34 | BF5: 15728.79 | BH5: 15728.79
A6: =IF(X6="30000",IF(P6>60000,"yes","no"),"no") -> yes | B6: =IF(A6="no","N/A",IF(ISNA(VLOOKUP(P6,'Cost Type'!$A$4:$B$8,2,0)),"Impl",VLOOKUP(P6,'Cost Type'!$A$4:$B$8,2,0))) -> GMS | C6: =IF(B6="Impl",VLOOKUP(AB6,'Mapping Activities to outputs'!$B:$C,2,0),"N/A") -> N/A | F6: =BH6 -> 1258.3 | G6: BURDEN_COST | H6: Cost of summarized burden expenditure items. | I6: Project Accounting | J6: Accounting generated by Oracle Fusion Projects for cost, revenue and billing offset transactions. | K6: 1176166 | L6: BURDEN_COST | M6: DEC-2023 | N6: UNDP | P6: 75105 | Q6: Facilities and Administration - Implementation | R6: 58203 | S6: Ukraine - Crisis Prev & Rcvry | T6: UKR | U6: Ukraine | V6: 000182 | W6: GOVERNMENT OF NETHERLANDS | X6: 30000 | Y6: Programme Cost Sharing | Z6: 001981-UNDP | AA6: 001981-UNDP | AB6: ACT 2.3.2. | AC6: 01001136 | AD6: Support to the stabilization and recovery of war affected communities (frontline, return and hosting areas) | AE6: 29310612 | AF6: EXPENDITURES | AP6: 100 | AQ6: Journal Import 21584286: | AR6: Expenditure Business Unit : UNDP-UKR , Project Number : 01001136 , Task Number : ACT 2.3.2. , Transaction Number : 29310612 , Expenditure Category : 75100 - Facilities & Administration , Expenditure Type : 75105 - Facilities and Administrat | AS6: Projects A 21584212000002 21584286 6 Y | AT6: 08-12-2023 Burden Cost | AU6: Quantum Service Account | AV6: UNDP PL USD | AW6: 1/1/1970 | AZ6: 2023 | BA6: 45268 | BB6: 45272 | BD6: UAH | BE6: 46557.23 | BF6: 1258.3 | BH6: 1258.3
A7: =IF(X7="30000",IF(P7>60000,"yes","no"),"no") -> yes | B7: =IF(A7="no","N/A",IF(ISNA(VLOOKUP(P7,'Cost Type'!$A$4:$B$8,2,0)),"Impl",VLOOKUP(Q7,'Cost Type'!$A$4:$B$8,2,0))) -> Impl | C7: =IF(B7="Impl",VLOOKUP(AB7,'Mapping Activities to outputs'!$B:$C,2,0),"N/A") -> MC | F7: =BH7 -> 308.11 | G7: Purchase Invoices | H7: Oracle Fusion Payables invoices. | I7: Payables | J7: Oracle Fusion Payables subledger. | K7: 1176166 | L7: INVOICES | M7: DEC-2023 | N7: UNDP | P7: 74220 | Q7: Translation Costs | R7: 58203 | S7: Ukraine - Crisis Prev & Rcvry | T7: UKR | U7: Ukraine | V7: 000182 | W7: GOVERNMENT OF NETHERLANDS | X7: 30000 | Y7: Programme Cost Sharing | Z7: 001981-UNDP | AA7: 001981-UNDP | AB7: ACT 4 | AC7: 01001136 | AD7: Support to the stabilization and recovery of war affected communities (frontline, return and hosting areas) | AE7: 774 | AF7: AP_INVOICES | AG7: verbal simultaneous interpretation services | AH7: 300001444353519 | AI7: STANDARD | AJ7: 11400 | AK7: 11400 | AL7: 1 | AM7: 774 | AN7: 1161084 | AO7: Alesco Translations, LLC | AP7: 82 | AQ7: Journal Import 21798007: | AR7: Supplier: Alesco Translations LLC |Supplier #: 1161084 |Site: UKR |Transaction #: 774 |Transaction Line #: 1 |PO #: |PO Line #: 0 |Contract #: 1176166 |Project #: 01001136 |Task #: ACT 4 |Donor: GOVERNMENT OF NETHERLANDS | | AS7: Payables A 21797475000001 21798007 Y | AT7: 08-12-2023 Purchase Invoices | AU7: Quantum Service Account | AV7: UNDP PL USD | AY7: 0 | AZ7: 2023 | BA7: 45268 | BB7: 45275 | BC7: 1 | BD7: UAH | BE7: 11400 | BF7: 308.11 | BH7: 308.11
A8: =IF(X8="30000",IF(P8>60000,"yes","no"),"no") -> yes | B8: =IF(A8="no","N/A",IF(ISNA(VLOOKUP(P8,'Cost Type'!$A$4:$B$8,2,0)),"Impl",VLOOKUP(P8,'Cost Type'!$A$4:$B$8,2,0))) -> GMS | C8: =IF(B8="Impl",VLOOKUP(AB8,'Mapping Activities to outputs'!$B:$C,2,0),"N/A") -> N/A | F8: =BH8 -> 24.65 | G8: BURDEN_COST | H8: Cost of summarized burden expenditure items. | I8: Project Accounting | J8: Accounting generated by Oracle Fusion Projects for cost, revenue and billing offset transactions. | K8: 1176166 | L8: BURDEN_COST | M8: DEC-2023 | N8: UNDP | P8: 75105 | Q8: Facilities and Administration - Implementation | R8: 58203 | S8: Ukraine - Crisis Prev & Rcvry | T8: UKR | U8: Ukraine | V8: 000182 | W8: GOVERNMENT OF NETHERLANDS | X8: 30000 | Y8: Programme Cost Sharing | Z8: 001981-UNDP | AA8: 001981-UNDP | AB8: ACT 4 | AC8: 01001136 | AD8: Support to the stabilization and recovery of war affected communities (frontline, return and hosting areas) | AE8: 30062644 | AF8: EXPENDITURES | AP8: 16 | AQ8: Journal Import 21849764: | AR8: Expenditure Business Unit : UNDP-UKR , Project Number : 01001136 , Task Number : ACT 4 , Transaction Number : 30062644 , Expenditure Category : 75100 - Facilities & Administration , Expenditure Type : 75105 - Facilities and Administration - | AS8: Projects A 21849694000003 21849764 2 Y | AT8: 08-12-2023 Burden Cost | AU8: Quantum Service Account | AV8: UNDP PL USD | AW8: 1/1/1970 | AZ8: 2023 | BA8: 45268 | BB8: 45277 | BD8: UAH | BE8: 912 | BF8: 24.65 | BH8: 24.65
A9: =IF(X9="30000",IF(P9>60000,"yes","no"),"no") -> yes | B9: =IF(A9="no","N/A",IF(ISNA(VLOOKUP(P9,'Cost Type'!$A$4:$B$8,2,0)),"Impl",VLOOKUP(Q9,'Cost Type'!$A$4:$B$8,2,0))) -> Impl | C9: =IF(B9="Impl",VLOOKUP(AB9,'Mapping Activities to outputs'!$B:$C,2,0),"N/A") -> MC | F9: =BH9 -> 112.89 | G9: Purchase Invoices | H9: Oracle Fusion Payables invoices. | I9: Payables | J9: Oracle Fusion Payables subledger. | K9: 1176166 | L9: INVOICES | M9: FEB-2024 | N9: UNDP | P9: 71620 | Q9: Daily Subsistence Allowance - Local | R9: 58203 | S9: Ukraine - Crisis Prev & Rcvry | T9: UKR | U9: Ukraine | V9: 000182 | W9: GOVERNMENT OF NETHERLANDS | X9: 30000 | Y9: Programme Cost Sharing | Z9: 001981-UNDP | AA9: 001981-UNDP | AB9: ACT 5 | AC9: 01001136 | AD9: Support to the stabilization and recovery of war affected communities (frontline, return and hosting areas) | AE9: TR00256553_1 | AF9: AP_INVOICES | AG9: Travel Entitlements | AH9: 300001551069288 | AI9: STANDARD | AJ9: 4290 | AK9: 4290 | AL9: 1 | AM9: TR00256553_1 | AN9: HCM-71411561 | AO9: Tetiana SIHAIEVA[[71411561]] | AP9: 352 | AQ9: Journal Import 24684648: | AR9: Supplier: Tetiana SIHAIEVA[[71411561]] |Supplier #: HCM-71411561 |Site: Primary |Transaction #: TR00256553_1 |Transaction Line #: 1 |PO #: |PO Line #: 0 |Contract #: 1176166 |Project #: 01001136 |Task #: ACT 5 |Donor: GOVERNMENT | AS9: Payables A 24684061000001 24684648 Y | AT9: 06-02-2024 Purchase Invoices | AU9: Quantum Service Account | AV9: UNDP PL USD | AY9: 0 | AZ9: 2024 | BA9: 45328 | BB9: 45328 | BC9: 1 | BD9: UAH | BE9: 4290 | BF9: 112.89 | BH9: 112.89
A10: =IF(X10="30000",IF(P10>60000,"yes","no"),"no") -> yes | B10: =IF(A10="no","N/A",IF(ISNA(VLOOKUP(P10,'Cost Type'!$A$4:$B$8,2,0)),"Impl",VLOOKUP(P10,'Cost Type'!$A$4:$B$8,2,0))) -> GMS | C10: =IF(B10="Impl",VLOOKUP(AB10,'Mapping Activities to outputs'!$B:$C,2,0),"N/A") -> N/A | F10: =BH10 -> 9.03 | G10: BURDEN_COST | H10: Cost of summarized burden expenditure items. | I10: Project Accounting | J10: Accounting generated by Oracle Fusion Projects for cost, revenue and billing offset transactions. | K10: 1176166 | L10: BURDEN_COST | M10: FEB-2024 | N10: UNDP | P10: 75105 | Q10: Facilities and Administration - Implementation | R10: 58203 | S10: Ukraine - Crisis Prev & Rcvry | T10: UKR | U10: Ukraine | V10: 000182 | W10: GOVERNMENT OF NETHERLANDS | X10: 30000 | Y10: Programme Cost Sharing | Z10: 001981-UNDP | AA10: 001981-UNDP | AB10: ACT 5 | AC10: 01001136 | AD10: Support to the stabilization and recovery of war affected communities (frontline, return and hosting areas) | AE10: 39422504 | AF10: EXPENDITURES | AP10: 262 | AQ10: Journal Import 24736819: | AR10: Expenditure Business Unit : UNDP-UKR , Project Number : 01001136 , Task Number : ACT 5 , Transaction Number : 39422504 , Expenditure Category : 75100 - Facilities & Administration , Expenditure Type : 75105 - Facilities and Administration - | AS10: Projects A 24736764000001 24736819 2 Y | AT10: 06-02-2024 Burden Cost | AU10: Quantum Service Account | AV10: UNDP PL USD | AW10: 1/1/1970 | AZ10: 2024 | BA10: 45328 | BB10: 45329 | BD10: UAH | BE10: 343.2 | BF10: 9.03 | BH10: 9.03
A11: =IF(X11="30000",IF(P11>60000,"yes","no"),"no") -> yes | B11: =IF(A11="no","N/A",IF(ISNA(VLOOKUP(P11,'Cost Type'!$A$4:$B$8,2,0)),"Impl",VLOOKUP(Q11,'Cost Type'!$A$4:$B$8,2,0))) -> Impl | C11: =IF(B11="Impl",VLOOKUP(AB11,'Mapping Activities to outputs'!$B:$C,2,0),"N/A") -> Output 3 | F11: =BH11 -> -950.64 | G11: Payments | H11: Cash disbursements. | I11: Payables | J11: Oracle Fusion Payables subledger. | K11: 1176166 | L11: PAYMENTS | M11: MAR-2024 | N11: UNDP | P11: 76135 | Q11: Realized Foreign Exchange Gain - AP | R11: 58203 | S11: Ukraine - Crisis Prev & Rcvry | T11: UKR | U11: Ukraine | V11: 000182 | W11: GOVERNMENT OF NETHERLANDS | X11: 30000 | Y11: Programme Cost Sharing | Z11: 012666-UKR_ISAR EDNANNIA_RPP | AA11: 012666-UKR_ISAR EDNANNIA_RPP | AB11: ISAR_3.2.2 | AC11: 01001136 | AD11: Support to the stabilization and recovery of war affected communities (frontline, return and hosting areas) | AE11: 8107015846 | AF11: AP_PAYMENTS | AG11: New Advance Request 01-03'24-DIM Adv-IA12666-RPA # 2024/01/003/ADM | AH11: 300001599018263 | AI11: PREPAYMENT | AJ11: 39694230 | AK11: 1368000 | AL11: 20 | AM11: 01-03'24-DIM Adv-IA12666 | AN11: 2052132 | AO11: The Initiative Center to Support Social Action "Ednannia", NGO | AP11: 2772 | AQ11: Journal Import 26094378: | AR11: Supplier: The Initiative Center to Support Social Action "Ednannia", NGO |Supplier #: 2052132 |Transaction #: 01-03'24-DIM Adv-IA12666 |Payment # : 8107015846 |Payment Method : TRF | | AS11: Payables A 26093806000001 26094378 3 N | AT11: 01-03-2024 Payments | AU11: Quantum Service Account | AV11: UNDP PL USD | AY11: 0 | AZ11: 2024 | BA11: 45352 | BB11: 45352 | BD11: UAH | BE11: 0 | BG11: 950.64 | BH11: -950.64
A12: =IF(X12="30000",IF(P12>60000,"yes","no"),"no") -> yes | B12: =IF(A12="no","N/A",IF(ISNA(VLOOKUP(P12,'Cost Type'!$A$4:$B$8,2,0)),"Impl",VLOOKUP(Q12,'Cost Type'!$A$4:$B$8,2,0))) -> Impl | C12: =IF(B12="Impl",VLOOKUP(AB12,'Mapping Activities to outputs'!$B:$C,2,0),"N/A") -> Output 3 | F12: =BH12 -> 11262.96 | G12: Purchase Invoices | H12: Oracle Fusion Payables invoices. | I12: Payables | J12: Oracle Fusion Payables subledger. | K12: 1176166 | L12: INVOICES | M12: MAR-2024 | N12: UNDP | P12: 72145 | Q12: Service Cost - Training and Education Services | R12: 58203 | S12: Ukraine - Crisis Prev & Rcvry | T12: UKR | U12: Ukraine | V12: 000182 | W12: GOVERNMENT OF NETHERLANDS | X12: 30000 | Y12: Programme Cost Sharing | Z12: 001981-UNDP | AA12: 001981-UNDP | AB12: ACT 3.1.2. | AC12: 01001136 | AD12: Support to the stabilization and recovery of war affected communities (frontline, return and hosting areas) | AE12: 031 | AF12: AP_INVOICES | AG12: conduction of the event | AH12: 300001606028845 | AI12: STANDARD | AJ12: 427992.64 | AK12: 427992.64 | AL12: 1 | AM12: 031 | AN12: 1078762 | AO12: AHEAD INTERNATIONAL, LLC | AP12: 1439 | AQ12: Journal Import 26125763: | AR12: Supplier: LLC AHEAD INTERNATIONAL |Supplier #: 1078762 |Site: UKR |Transaction #: 031 |Transaction Line #: 1 |PO #: 10173988 |PO Line #: 1 |Contract #: 1176166 |Project #: 01001136 |Task #: ACT 3.1.2. |Donor: GOVERNMENT OF NETHERL | AS12: Payables A 26125175000001 26125763 2 Y | AT12: 01-03-2024 Purchase Invoices | AU12: Quantum Service Account | AV12: UNDP PL USD | AW12: 1/22/2024 | AX12: 10173988 | AY12: 1 | AZ12: 2024 | BA12: 45352 | BB12: 45352 | BC12: 1 | BD12: UAH | BE12: 427992.64 | BF12: 11262.96 | BH12: 11262.96
A13: =IF(X13="30000",IF(P13>60000,"yes","no"),"no") -> yes | B13: =IF(A13="no","N/A",IF(ISNA(VLOOKUP(P13,'Cost Type'!$A$4:$B$8,2,0)),"Impl",VLOOKUP(P13,'Cost Type'!$A$4:$B$8,2,0))) -> GMS | C13: =IF(B13="Impl",VLOOKUP(AB13,'Mapping Activities to outputs'!$B:$C,2,0),"N/A") -> N/A | F13: =BH13 -> 889.34 | G13: BURDEN_COST | H13: Cost of summarized burden expenditure items. | I13: Project Accounting | J13: Accounting generated by Oracle Fusion Projects for cost, revenue and billing offset transactions. | K13: 1176166 | L13: BURDEN_COST | M13: MAR-2024 | N13: UNDP | P13: 75105 | Q13: Facilities and Administration - Implementation | R13: 58203 | S13: Ukraine - Crisis Prev & Rcvry | T13: UKR | U13: Ukraine | V13: 000182 | W13: GOVERNMENT OF NETHERLANDS | X13: 30000 | Y13: Programme Cost Sharing | Z13: 001981-UNDP | AA13: 001981-UNDP | AB13: ACT 3.1.2. | AC13: 01001136 | AD13: Support to the stabilization and recovery of war affected communities (frontline, return and hosting areas) | AE13: 40359284 | AF13: EXPENDITURES | AP13: 534 | AQ13: Journal Import 26183719: | AR13: Expenditure Business Unit : UNDP-UKR , Project Number : 01001136 , Task Number : ACT 3.1.2. , Transaction Number : 40359284 , Expenditure Category : 75100 - Facilities & Administration , Expenditure Type : 75105 - Facilities and Administrat | AS13: Projects A 26183701000001 26183719 2 Y | AT13: 01-03-2024 Burden Cost | AU13: Quantum Service Account | AV13: UNDP PL USD | AW13: 1/1/1970 | AZ13: 2024 | BA13: 45352 | BB13: 45354 | BD13: UAH | BE13: 34239.41 | BF13: 889.34 | BH13: 889.34
A14: =IF(X14="30000",IF(P14>60000,"yes","no"),"no") -> yes | B14: =IF(A14="no","N/A",IF(ISNA(VLOOKUP(P14,'Cost Type'!$A$4:$B$8,2,0)),"Impl",VLOOKUP(Q14,'Cost Type'!$A$4:$B$8,2,0))) -> Impl | C14: =IF(B14="Impl",VLOOKUP(AB14,'Mapping Activities to outputs'!$B:$C,2,0),"N/A") -> Output 3 | F14: =BH14 -> -146.27 | G14: Payments | H14: Cash disbursements. | I14: Payables | J14: Oracle Fusion Payables subledger. | K14: 1176166 | L14: PAYMENTS | M14: MAR-2024 | N14: UNDP | P14: 76135 | Q14: Realized Foreign Exchange Gain - AP | R14: 58203 | S14: Ukraine - Crisis Prev & Rcvry | T14: UKR | U14: Ukraine | V14: 000182 | W14: GOVERNMENT OF NETHERLANDS | X14: 30000 | Y14: Programme Cost Sharing | Z14: 001981-UNDP | AA14: 001981-UNDP | AB14: ACT 3.1.2. | AC14: 01001136 | AD14: Support to the stabilization and recovery of war affected communities (frontline, return and hosting areas) | AE14: 8107015917 | AF14: AP_PAYMENTS | AG14: conduction of the event | AH14: 300001606028845 | AI14: STANDARD | AJ14: 427992.64 | AK14: 427992.64 | AL14: 1 | AM14: 031 | AN14: 1078762 | AO14: AHEAD INTERNATIONAL, LLC | AP14: 2137 | AQ14: Journal Import 26304731: | AR14: Supplier: LLC AHEAD INTERNATIONAL |Supplier #: 1078762 |Transaction #: 031 |Payment # : 8107015917 |Payment Method : TRF | | AS14: Payables A 26304066000001 26304731 N | AT14: 05-03-2024 Payments | AU14: Quantum Service Account | AV14: UNDP PL USD | AW14: 1/22/2024 | AX14: 10173988 | AY14: 1 | AZ14: 2024 | BA14: 45356 | BB14: 45356 | BD14: UAH | BE14: 0 | BG14: 146.27 | BH14: -146.27
A15: =IF(X15="30000",IF(P15>60000,"yes","no"),"no") -> yes | B15: =IF(A15="no","N/A",IF(ISNA(VLOOKUP(P15,'Cost Type'!$A$4:$B$8,2,0)),"Impl",VLOOKUP(Q15,'Cost Type'!$A$4:$B$8,2,0))) -> Impl | C15: =IF(B15="Impl",VLOOKUP(AB15,'Mapping Activities to outputs'!$B:$C,2,0),"N/A") -> MC | F15: =BH15 -> 378.95 | G15: Purchase Invoices | H15: Oracle Fusion Payables invoices. | I15: Payables | J15: Oracle Fusion Payables subledger. | K15: 1176166 | L15: INVOICES | M15: FEB-2024 | N15: UNDP | P15: 74225 | Q15: Other Media Costs | R15: 58203 | S15: Ukraine - Crisis Prev & Rcvry | T15: UKR | U15: Ukraine | V15: 000182 | W15: GOVERNMENT OF NETHERLANDS | X15: 30000 | Y15: Programme Cost Sharing | Z15: 001981-UNDP | AA15: 001981-UNDP | AB15: ACT 4 | AC15: 01001136 | AD15: Support to the stabilization and recovery of war affected communities (frontline, return and hosting areas) | AE15: 045 | AF15: AP_INVOICES | AG15: urgent design of the document “Annual Project Report. Support to the Stabilization and Recovery of War Affected Communities” | AH15: 300001609756817 | AI15: STANDARD | AJ15: 14400 | AK15: 14400 | AL15: 1 | AM15: 045 | AN15: 1931668 | AO15: Yana Vyniarska | AP15: 101 | AQ15: Journal Import 26387188: | AR15: Supplier: Yana Vyniarska |Supplier #: 1931668 |Site: Main address |Transaction #: 045 |Transaction Line #: 1 |PO #: |PO Line #: 0 |Contract #: 1176166 |Project #: 01001136 |Task #: ACT 4 |Donor: GOVERNMENT OF NETHERLANDS | | AS15: Payables A 26387046000001 26387188 Y | AT15: 29-02-2024 Purchase Invoices | AU15: Quantum Service Account | AV15: UNDP PL USD | AY15: 0 | AZ15: 2024 | BA15: 45351 | BB15: 45357 | BC15: 1 | BD15: UAH | BE15: 14400 | BF15: 378.95 | BH15: 378.95
A16: =IF(X16="30000",IF(P16>60000,"yes","no"),"no") -> yes | B16: =IF(A16="no","N/A",IF(ISNA(VLOOKUP(P16,'Cost Type'!$A$4:$B$8,2,0)),"Impl",VLOOKUP(P16,'Cost Type'!$A$4:$B$8,2,0))) -> GMS | C16: =IF(B16="Impl",VLOOKUP(AB16,'Mapping Activities to outputs'!$B:$C,2,0),"N/A") -> N/A | F16: =BH16 -> 30.32 | G16: BURDEN_COST | H16: Cost of summarized burden expenditure items. | I16: Project Accounting | J16: Accounting generated by Oracle Fusion Projects for cost, revenue and billing offset transactions. | K16: 1176166 | L16: BURDEN_COST | M16: FEB-2024 | N16: UNDP | P16: 75105 | Q16: Facilities and Administration - Implementation | R16: 58203 | S16: Ukraine - Crisis Prev & Rcvry | T16: UKR | U16: Ukraine | V16: 000182 | W16: GOVERNMENT OF NETHERLANDS | X16: 30000 | Y16: Programme Cost Sharing | Z16: 001981-UNDP | AA16: 001981-UNDP | AB16: ACT 4 | AC16: 01001136 | AD16: Support to the stabilization and recovery of war affected communities (frontline, return and hosting areas) | AE16: 40476820 | AF16: EXPENDITURES | AP16: 181 | AQ16: Journal Import 26418166: | AR16: Expenditure Business Unit : UNDP-UKR , Project Number : 01001136 , Task Number : ACT 4 , Transaction Number : 40476820 , Expenditure Category : 75100 - Facilities & Administration , Expenditure Type : 75105 - Facilities and Administration - | AS16: Projects A 26418089000001 26418166 2 Y | AT16: 29-02-2024 Burden Cost | AU16: Quantum Service Account | AV16: UNDP PL USD | AW16: 1/1/1970 | AZ16: 2024 | BA16: 45351 | BB16: 45358 | BD16: UAH | BE16: 1152 | BF16: 30.32 | BH16: 30.32
A17: =IF(X17="30000",IF(P17>60000,"yes","no"),"no") -> yes | B17: =IF(A17="no","N/A",IF(ISNA(VLOOKUP(P17,'Cost Type'!$A$4:$B$8,2,0)),"Impl",VLOOKUP(Q17,'Cost Type'!$A$4:$B$8,2,0))) -> Impl | C17: =IF(B17="Impl",VLOOKUP(AB17,'Mapping Activities to outputs'!$B:$C,2,0),"N/A") -> MC | F17: =BH17 -> -4.92 | G17: Payments | H17: Cash disbursements. | I17: Payables | J17: Oracle Fusion Payables subledger. | K17: 1176166 | L17: PAYMENTS | M17: MAR-2024 | N17: UNDP | P17: 76135 | Q17: Realized Foreign Exchange Gain - AP | R17: 58203 | S17: Ukraine - Crisis Prev & Rcvry | T17: UKR | U17: Ukraine | V17: 000182 | W17: GOVERNMENT OF NETHERLANDS | X17: 30000 | Y17: Programme Cost Sharing | Z17: 001981-UNDP | AA17: 001981-UNDP | AB17: ACT 4 | AC17: 01001136 | AD17: Support to the stabilization and recovery of war affected communities (frontline, return and hosting areas) | AE17: 8107016116 | AF17: AP_PAYMENTS | AG17: urgent design of the document “Annual Project Report. Support to the Stabilization and Recovery of War Affected Communities” | AH17: 300001609756817 | AI17: STANDARD | AJ17: 14400 | AK17: 14400 | AL17: 1 | AM17: 045 | AN17: 1931668 | AO17: Yana Vyniarska | AP17: 4756 | AQ17: Journal Import 26656762: | AR17: Supplier: Yana Vyniarska |Supplier #: 1931668 |Transaction #: 045 |Payment # : 8107016116 |Payment Method : TRF | | AS17: Payables A 26655649000002 26656762 N | AT17: 11-03-2024 Payments | AU17: Quantum Service Account | AV17: UNDP PL USD | AY17: 0 | AZ17: 2024 | BA17: 45362 | BB17: 45362 | BD17: UAH | BE17: 0 | BG17: 4.92 | BH17: -4.92
A18: =IF(X18="30000",IF(P18>60000,"yes","no"),"no") -> yes | B18: =IF(A18="no","N/A",IF(ISNA(VLOOKUP(P18,'Cost Type'!$A$4:$B$8,2,0)),"Impl",VLOOKUP(Q18,'Cost Type'!$A$4:$B$8,2,0))) -> Impl | C18: =IF(B18="Impl",VLOOKUP(AB18,'Mapping Activities to outputs'!$B:$C,2,0),"N/A") -> Output 3 | F18: =BH18 -> -96.19 | G18: Purchase Invoices | H18: Oracle Fusion Payables invoices. | I18: Payables | J18: Oracle Fusion Payables subledger. | K18: 1176166 | L18: INVOICES | M18: MAR-2024 | N18: UNDP | P18: 72220 | Q18: Furniture | R18: 58203 | S18: Ukraine - Crisis Prev & Rcvry | T18: UKR | U18: Ukraine | V18: 000182 | W18: GOVERNMENT OF NETHERLANDS | X18: 30000 | Y18: Programme Cost Sharing | Z18: 001981-UNDP | AA18: 001981-UNDP | AB18: ACT 3.1.3. | AC18: 01001136 | AD18: Support to the stabilization and recovery of war affected communities (frontline, return and hosting areas) | AE18: 003 | AF18: AP_INVOICES | AG18: office equipment | AH18: 300001663946936 | AI18: STANDARD | AJ18: 281453 | AK18: 281453 | AL18: 1 | AM18: 003 | AN18: 2009297 | AO18: Pidreza Ihor Pavlovych | AP18: 62 | AQ18: Journal Import 27682674: | AR18: Supplier: Pidreza Ihor Pavlovych |Supplier #: 2009297 |Site: UKR |Transaction #: 003 |Transaction Line #: 1 |PO #: 10173392 |PO Line #: 1 |Contract #: 1176166 |Project #: 01001136 |Task #: ACT 3.1.3. |Donor: GOVERNMENT OF NETHERLA | AS18: Payables A 27681613000001 27682674 N | AT18: 28-03-2024 Purchase Invoices | AU18: Quantum Service Account | AV18: UNDP PL USD | AW18: 1/19/2024 | AX18: 10173392 | AY18: 1 | AZ18: 2024 | BA18: 45379 | BB18: 45379 | BC18: 1 | BD18: UAH | BE18: 0 | BG18: 96.19 | BH18: -96.19
